BEGIN:VCALENDAR
VERSION:2.0
PRODID:-//217.160.0.65//NONSGML kigkonsult.se iCalcreator 2.26.9//
CALSCALE:GREGORIAN
METHOD:PUBLISH
X-FROM-URL:http://www.xn--getrnkehaus-mord-ynb.de
X-WR-TIMEZONE:Europe/Berlin
BEGIN:VTIMEZONE
TZID:Europe/Berlin
X-LIC-LOCATION:Europe/Berlin
BEGIN:STANDARD
DTSTART:20251026T030000
TZOFFSETFROM:+0200
TZOFFSETTO:+0100
RDATE:20261025T030000
TZNAME:CET
END:STANDARD
BEGIN:DAYLIGHT
DTSTART:20260329T020000
TZOFFSETFROM:+0100
TZOFFSETTO:+0200
RDATE:20270328T020000
TZNAME:CEST
END:DAYLIGHT
END:VTIMEZONE
BEGIN:VEVENT
UID:ai1ec-4891@www.xn--getrnkehaus-mord-ynb.de
DTSTAMP:20260421T093603Z
CATEGORIES:
CONTACT:Michael Bosse\; info@getraenkehaus-mord.de
DESCRIPTION:<div class='sharedaddy sd-sharing-enabled'><div class='robots-n
 ocontent sd-block sd-social sd-social-icon-text sd-sharing'><h3 class='sd-
 title'>Teilen mit:</h3><div class='sd-content'><ul><li class='share-print'
 ><a rel='nofollow noopener noreferrer' data-shared='' class='share-print s
 d-button share-icon' href='http://www.xn--getrnkehaus-mord-ynb.de/#print' 
 target='_blank' title='Klicken zum Ausdrucken' ><span>Drucken</span></a></
 li><li class='share-email'><a rel='nofollow noopener noreferrer' data-shar
 ed='' class='share-email sd-button share-icon' href='mailto:?subject=%5BGe
 teilter%20Beitrag%5D%20&body=http%3A%2F%2Fwww.xn--getrnkehaus-mord-ynb.de%
 2F&share=email' target='_blank' title='Click to email a link to a friend' 
 data-email-share-error-title='Do you have email set up?' data-email-share-
 error-text='If you're having problems sharing via email\, you might not ha
 ve email set up for your browser. You may need to create a new email yours
 elf.' data-email-share-nonce='302868c866' data-email-share-track-url='http
 ://www.xn--getrnkehaus-mord-ynb.de/?share=email'><span>E-Mail</span></a></
 li><li class='share-facebook'><a rel='nofollow noopener noreferrer' data-s
 hared='sharing-facebook-9' class='share-facebook sd-button share-icon' hre
 f='http://www.xn--getrnkehaus-mord-ynb.de/?share=facebook' target='_blank'
  title='Click to share on Facebook' ><span>Facebook</span></a></li><li cla
 ss='share-twitter'><a rel='nofollow noopener noreferrer' data-shared='shar
 ing-twitter-9' class='share-twitter sd-button share-icon' href='http://www
 .xn--getrnkehaus-mord-ynb.de/?share=twitter' target='_blank' title='Klicke
 n\, um auf Twitter zu teilen' ><span>Twitter</span></a></li><li class='sha
 re-end'></li></ul></div></div></div>
DTSTART;TZID=Europe/Berlin:20240419T170000
DTEND;TZID=Europe/Berlin:20240419T000000
LOCATION:Mühlenstraße 17 @ 15517 Fürstenwalde
SEQUENCE:0
SUMMARY:Lange Nacht der Museen 2024
URL:http://www.xn--getrnkehaus-mord-ynb.de/?ai1ec_event=lange-nacht-der-mus
 een-2024
X-COST-TYPE:external
X-COST:5\,00 €
END:VEVENT
END:VCALENDAR
